BEGIN:VCALENDAR
VERSION:2.0
PRODID:-//wp-events-plugin.com//7.2.3.1//EN
BEGIN:VEVENT
UID:40@kirjallisuusterapia.net
DTSTART;TZID=Europe/Helsinki:20260401T180000
DTEND;TZID=Europe/Helsinki:20260401T200000
DTSTAMP:20260211T081533Z
URL:https://kirjallisuusterapia.net/events/sanojen-sylissa-terapeuttinen-l
 ukupiiri-verkossa-1-4-7-10-2026/
SUMMARY:Sanojen sylissä – terapeuttinen lukupiiri verkossa 1.4.–7.10.2
 026
DESCRIPTION:Sanojen sylissä on terapeuttinen lukupiiri sinulle\, joka kaip
 aat pysähtymistä\, merkityksellisiä tekstejä ja tilaa omille ajatuksil
 le – rauhassa\, turvallisesti ja yhdessä toisten kanssa.\n\nLukupiiri k
 okoontuu Zoomissa kerran kuukaudessa keskiviikkoisin klo 18–20 puolen vu
 oden ajan (heinäkuussa on tauko). Jokaisella tapaamiskerralla keskustella
 an etukäteen valitusta kirjasta tai muusta tekstistä\, pysähdytään lu
 kukokemusten äärelle vapaasti ja arvottamatta ja tehdään lyhyitä\, oh
 jattuja kirjoitusharjoituksia\, jotka pohjautuvat kirjallisuusterapeuttisi
 in menetelmiin.\n\nHinta: 147 €\n\nOhjaaja: Annamari Typpö\, FM\, kirjo
 ittaja\, kääntäjä\, kirjallisuusterapeutti\, sanataideohjaaja\n\nLisä
 tietoja ja ilmoittautumisohjeet: https://sananhaltija.fi/kirjoituskurssit/
 terapeuttinen-lukupiiri
ATTACH;FMTTYPE=image/jpeg:https://kirjallisuusterapia.net/wp-content/uploa
 ds/2026/02/sanojensylissa.jpg
CATEGORIES:Kurssit
END:VEVENT
BEGIN:VTIMEZONE
TZID:Europe/Helsinki
X-LIC-LOCATION:Europe/Helsinki
BEGIN:DAYLIGHT
DTSTART:20260329T040000
TZOFFSETFROM:+0200
TZOFFSETTO:+0300
TZNAME:EEST
END:DAYLIGHT
END:VTIMEZONE
END:VCALENDAR