BEGIN:VCALENDAR
VERSION:2.0
PRODID:-//wp-events-plugin.com//7.2.3.1//EN
BEGIN:VEVENT
UID:36@kirjallisuusterapia.net
DTSTART;TZID=Europe/Helsinki:20260509T110000
DTEND;TZID=Europe/Helsinki:20260509T150000
DTSTAMP:20260209T051035Z
URL:https://kirjallisuusterapia.net/events/sanojen-suojassa-luontokirjoitt
 amisen-tyopaja-helsingissa-9-5-2026/
SUMMARY:Sanojen suojassa – luontokirjoittamisen työpaja Helsingissä 9.5
 .2026
DESCRIPTION:Sanojen suojassa on yhden päivän luontokirjoittamisen työpaj
 a\, jossa luemme ja kirjoitamme runoja ja muita tekstejä osin ulkona\, os
 in sisällä. Työpaja kutsuu pysähtymään kevääseen\, kuuntelemaan ym
 päristöä ja antamaan sanojen syntyä paikasta käsin.\n\nTyöpajan kesk
 eisenä inspiraationa toimii runoilija Saila Susiluodon teos Rituaali – 
 eko- ja metsäfeministinen runo- ja loitsuteos\, joka on tarkoitettu käyt
 ettäväksi. Luemme metsässä ääneen Susiluodon loitsuja ja kirjoitamme
  omia loitsujamme\, jotka on tarkoitettu lausuttaviksi metsälle tai merel
 le. Tutkimme\, millaista on\, kun sanat eivät ole vain ajatuksia tai teks
 tiä\, vaan ääntä\, liikettä ja suhdetta ympäristöön. Jokainen osal
 listuja saa Rituaalin itselleen.\n\nLisätietoja ja ilmoittautumisohjeet: 
 https://sananhaltija.fi/kirjoituskurssit/sanojen-suojassa-luontokirjoittam
 isen-tyopaja\n\nOhjaaja: Annamari Typpö\, FM\, kirjoittaja\, kääntäjä
 \, kirjallisuusterapeutti\, sanataideohjaaja\n\nHinta: 127 €.\nHintaan s
 isältyy Saila Susiluodon Rituaali-teos sekä kahvi/tee ja suolainen piira
 spala.
ATTACH;FMTTYPE=image/jpeg:https://kirjallisuusterapia.net/wp-content/uploa
 ds/2026/02/luontokirjoittaminen.png
CATEGORIES:Kurssit
LOCATION:Kulttuurikeskus Sofia\, Kallvikinniementie 35\, 00980 Helsinki\, S
 uomi
X-APPLE-STRUCTURED-LOCATION;VALUE=URI;X-ADDRESS=Kallvikinniementie 35\, 009
 80 Helsinki\, Suomi;X-APPLE-RADIUS=100;X-TITLE=Kulttuurikeskus Sofia:geo:0
 ,0
END:VEVENT
BEGIN:VTIMEZONE
TZID:Europe/Helsinki
X-LIC-LOCATION:Europe/Helsinki
BEGIN:DAYLIGHT
DTSTART:20260329T040000
TZOFFSETFROM:+0200
TZOFFSETTO:+0300
TZNAME:EEST
END:DAYLIGHT
END:VTIMEZONE
END:VCALENDAR