BEGIN:VCALENDAR
VERSION:2.0
PRODID:-//wp-events-plugin.com//7.2.3.1//EN
BEGIN:VEVENT
UID:39@kirjallisuusterapia.net
DTSTART;TZID=Europe/Helsinki:20260411T110000
DTEND;TZID=Europe/Helsinki:20260412T150000
DTSTAMP:20260209T052849Z
URL:https://kirjallisuusterapia.net/events/ovi-luovuuteen-luovan-kirjoitta
 misen-viikonloppukurssi-lahdessa-11-4-12-4-2026/
SUMMARY:Ovi luovuuteen – luovan kirjoittamisen viikonloppukurssi Lahdessa
  11.4.–12.4.2026
DESCRIPTION:Onko mielessäsi ehkä jo pitkään kuiskinut ajatus kirjoittam
 isesta\, mutta sisäisellä kriitikolla on ollut kovempi ääni? Kaipaatko
  kirjoittamiseen iloa\, flow'ta ja leikkimieltä? Haluaisitko herätellä 
 luovuuttasi\, mutta et tiedä\, mistä aloittaa?\n\nOvi luovuuteen on kahd
 en päivän lempeä ja innostava viikonloppukurssi\, jossa pääset tutkim
 aan kirjoittamista ilman suorituspaineita. Tällä kurssilla ei tarvita ta
 itoja eikä tietoa – uteliaisuus ja halu kokeilla riittää.\n\nHinta: 1
 47 € (hintaan sisältyy kahvi/tee ja sämpylä kumpanakin päivänä)\n\
 nOhjaaja: Annamari Typpö\, FM\, kirjoittaja\, kääntäjä\, kirjallisuus
 terapeutti\, sanataideohjaaja\n\nLisätietoja ja ilmoittautumisohjeet: htt
 ps://sananhaltija.fi/kirjoituskurssit/ovi-luovuuteen-luovan-kirjoittamisen
 -kurssi
ATTACH;FMTTYPE=image/jpeg:https://kirjallisuusterapia.net/wp-content/uploa
 ds/2026/02/oviluovuuteen.jpg
CATEGORIES:Kurssit
LOCATION:Harjula-keskus\, Harjulankatu 7\, Lahti (ryhmätila Tuomi)\, Suomi
X-APPLE-STRUCTURED-LOCATION;VALUE=URI;X-ADDRESS=Harjulankatu 7\, Lahti (ryh
 mätila Tuomi)\, Suomi;X-APPLE-RADIUS=100;X-TITLE=Harjula-keskus:geo:0,0
END:VEVENT
BEGIN:VTIMEZONE
TZID:Europe/Helsinki
X-LIC-LOCATION:Europe/Helsinki
BEGIN:DAYLIGHT
DTSTART:20260329T040000
TZOFFSETFROM:+0200
TZOFFSETTO:+0300
TZNAME:EEST
END:DAYLIGHT
END:VTIMEZONE
END:VCALENDAR