BEGIN:VCALENDAR
VERSION:2.0
PRODID:-//wp-events-plugin.com//7.2.3.1//EN
BEGIN:VEVENT
UID:37@kirjallisuusterapia.net
DTSTART;TZID=Europe/Helsinki:20260413T000000
DTEND;TZID=Europe/Helsinki:20260413T000000
DTSTAMP:20260217T114829Z
URL:https://kirjallisuusterapia.net/events/minun-tarinani-neljan-viikon-om
 aelamakerrallinen-kirjoitushaaste-verkossa-13-4-10-5-2026/
SUMMARY:Minun tarinani – neljän viikon omaelämäkerrallinen kirjoitusha
 aste verkossa 13.4.–10.5.2026
DESCRIPTION:Minun tarinani on neljän viikon lempeä mutta syvälle katsova
  omaelämäkerrallinen kirjoitushaaste sinulle\, joka haluat kirjoittaa om
 asta elämästäsi\, kokemuksistasi ja merkityksellisistä hetkistä turva
 llisesti\, ohjatusti ja omassa tahdissasi.\n\nNeljän viikon ajan maananta
 isin saat sähköpostiisi lyhyen johdatuksen viikon teemaan sekä kolme te
 emaan liittyvää omaelämäkerrallista kirjoitustehtävää\, jotka voit 
 tehdä oman aikataulusi mukaan. Halutessasi voit myös jakaa tekstejä ja 
 harjoitusten herättämiä ajatuksia haasteen omassa suljetussa Facebook-r
 yhmässä.\n\nHinta: 40 €\n\nLisätietoja ja ilmoittautumisohjeet: https
 ://sananhaltija.fi/kirjoituskurssit/minun-tarinani\n\nOhjaaja: Annamari Ty
 ppö\, FM\, kirjoittaja\, kääntäjä\, kirjallisuusterapeutti\, sanataid
 eohjaaja\n\n&nbsp\;
ATTACH;FMTTYPE=image/jpeg:https://kirjallisuusterapia.net/wp-content/uploa
 ds/2026/02/minuntarinani.jpg
CATEGORIES:Kurssit
END:VEVENT
BEGIN:VTIMEZONE
TZID:Europe/Helsinki
X-LIC-LOCATION:Europe/Helsinki
BEGIN:DAYLIGHT
DTSTART:20260329T040000
TZOFFSETFROM:+0200
TZOFFSETTO:+0300
TZNAME:EEST
END:DAYLIGHT
END:VTIMEZONE
END:VCALENDAR