BEGIN:VCALENDAR
VERSION:2.0
PRODID:-//wp-events-plugin.com//7.2.3.1//EN
BEGIN:VEVENT
UID:47@kirjallisuusterapia.net
DTSTART;TZID=Europe/Helsinki:20260717T000000
DTEND;TZID=Europe/Helsinki:20260720T000000
DTSTAMP:20260309T111619Z
URL:https://kirjallisuusterapia.net/events/marjamatka-mieleen-luovan-kirjo
 ittamisen-kurssi-pieksamaella-17-20-7-2026-2/
SUMMARY:Marjamatka mieleen -  Luovan kirjoittamisen kurssi Pieksämäellä 
 17.-20.7.2026
DESCRIPTION:Kesällä 2026 luvassa jälleen viime kesän tapaan\, mökkiel
 ämää ja kirjoittamista! Tämä kurssi rakentuu mansikoiden\, uimisen\, 
 saunomisen sekä luovan luontokirjoittamisen ympärille.\n\nMansikkapeltoj
 en katveessa ja luonnon rauhassa on tilaa kysyä: millaisia maailmoja juur
 i sinun mielikuvituksesi synnyttää? Kurssilla teemme syväsukelluksia mi
 elen kerroksiin ja tutkimme ainutlaatuista kirjoittajaääntäsi. Ympärö
 ivä luonto toimii kurssilla inspiraation lähteenä ja antaa tilaa luovuu
 delle. Kokeilemme erilaisia tyylejä ja rytmejä\, jotka auttavat sinua ha
 hmottamaan omaa\, luontevinta äänialaasi ja ilmaisun tapaasi. Tutkimme m
 yös hahmon rakentamista sekä keinoja lisätä tarinaan jännitettä ja i
 ntensiteettiä. Pohdimme lisäksi kirjoitusprosessin ja erityisesti autofi
 ktion sudenkuoppia: miten ammentaa omasta elämästä ja kääntää se ki
 innostavaksi tekstiksi. Kurssi sopii niin vasta-alkajille kuin kirjoittami
 sta pidempään harrastaneille.\n\nKursseille saavutaan alkuillasta ja vii
 meisenä kurssipäivänä mukaan saa poimia rajattoman määrän puutarha.
  Majoitus teltoissa\, mutta pari henkilöä mahtuu sisätiloihinkin. Hinta
  sisältää ohjauksen ja harjoitusten lisäksi kuljetuksen Pieksämäen a
 semalta\, saunomis-\, grillaus-\, kanootti- ja sup-lautamahdollisuuden sek
 ä ruokailut (kasvis- ja kalaruokaa). Mikäli kurssille osallistuminen per
 uutetaan\, peritään 50 euron varausmaksu.\n\n\n\nKurssin/koulutuksen ohj
 aajat: FT kirjoittamisen ja kirjallisuusterapian dosentti Karoliina Maanmi
 eli\, mahdollisesti FT\, kirjailija Tiina Piilola (jos ilmoittautuneita on
  tarpeeksi)\n\n\n\n\n\n\nHinta: 240 euroa\, 160 euroa (opiskelijat\, työt
 tömät\, eläkeläiset\, freelancerit)\n\n\n\nIlmoittautuminen ja lisäti
 edot: Karoliina Maanmieli\, karoliina.kahmi@gmail.com\, 0503454537
ATTACH;FMTTYPE=image/jpeg:https://kirjallisuusterapia.net/wp-content/uploa
 ds/2026/03/1772459705_qhdPQxG5HLDytF6O.jpg
CATEGORIES:Kurssit
LOCATION:Jäppilä\, Osoite ilmoitetaan myöhemmin ilmoittautuneille\, Piek
 sämäki\, Suomi
X-APPLE-STRUCTURED-LOCATION;VALUE=URI;X-ADDRESS=Osoite ilmoitetaan myöhemm
 in ilmoittautuneille\, Pieksämäki\, Suomi;X-APPLE-RADIUS=100;X-TITLE=Jä
 ppilä:geo:0,0
END:VEVENT
BEGIN:VTIMEZONE
TZID:Europe/Helsinki
X-LIC-LOCATION:Europe/Helsinki
BEGIN:DAYLIGHT
DTSTART:20260329T040000
TZOFFSETFROM:+0200
TZOFFSETTO:+0300
TZNAME:EEST
END:DAYLIGHT
END:VTIMEZONE
END:VCALENDAR