BEGIN:VCALENDAR
VERSION:2.0
PRODID:-//wp-events-plugin.com//7.2.3.1//EN
BEGIN:VEVENT
UID:38@kirjallisuusterapia.net
DTSTART;TZID=Europe/Helsinki:20260607T000000
DTEND;TZID=Europe/Helsinki:20260607T000000
DTSTAMP:20260217T115054Z
URL:https://kirjallisuusterapia.net/events/loyda-sanojen-taika-kirjoittaja
 matka-kreetalle-7-6-14-6-2026/
SUMMARY:Löydä sanojen taika -kirjoittajamatka Kreetalle 7.6.–14.6.2026
DESCRIPTION:Löydä sanojen taika -kurssi on viikon mittainen hengähdystau
 ko pienessä rauhallisessa Kissamosin kylässä Kreetan luoteisrannikolla.
  Kurssilla olet vain itseäsi varten\, vailla pakkoja. Saat antaa luovuute
 si kukkia – tai vasta heräillä – levosta käsin\, kirjoittamisen\, l
 ukemisen ja keskustelujen parissa..\n\nKurssilla hyödynnetään luovan ki
 rjoittamisen ja kirjallisuusterapian menetelmiä\, jotka auttavat sinua tu
 tkimaan omaa elämääsi ja tunteitasi kirjoittamisen kautta. Myös keskus
 telu sekä tunteiden\, ajatusten\, kokemusten ja tekstien jakaminen ovat t
 ärkeä osa kokonaisuutta – upeita maisemia\, paikallista kulttuuria\, i
 kiaikaista historiaa sekä elämyksellisiä aistinautintoja unohtamatta.\n
 \nKurssi on yhdistelmä ryhmätyöskentelyä ja omatoimista tekemistä.\n\
 nOhjaaja: Annamari Typpö\, FM\, kirjoittaja\, kääntäjä\, kirjallisuus
 terapeutti\, sanataideohjaaja\n\nHinta: alk. 1 450 euroa kahden hengen huo
 neessa\n\nLisätietoja ja ilmoittautumisohjeet: https://sananhaltija.fi/ki
 rjoituskurssit/loyda-sanojen-taika-matka-kreeta
ATTACH;FMTTYPE=image/jpeg:https://kirjallisuusterapia.net/wp-content/uploa
 ds/2026/02/LoydasanojentaikaKissamos.jpg
CATEGORIES:Kurssit
LOCATION:Kreeta\, Kissamos\, Suomi
X-APPLE-STRUCTURED-LOCATION;VALUE=URI;X-ADDRESS=Kissamos\, Suomi;X-APPLE-RA
 DIUS=100;X-TITLE=Kreeta:geo:0,0
END:VEVENT
BEGIN:VTIMEZONE
TZID:Europe/Helsinki
X-LIC-LOCATION:Europe/Helsinki
BEGIN:DAYLIGHT
DTSTART:20260329T040000
TZOFFSETFROM:+0200
TZOFFSETTO:+0300
TZNAME:EEST
END:DAYLIGHT
END:VTIMEZONE
END:VCALENDAR