BEGIN:VCALENDAR
VERSION:2.0
PRODID:-//wp-events-plugin.com//7.2.3.1//EN
BEGIN:VEVENT
UID:50@kirjallisuusterapia.net
DTSTART;TZID=Europe/Helsinki:20260611T000000
DTEND;TZID=Europe/Helsinki:20260614T000000
DTSTAMP:20260318T134045Z
URL:https://kirjallisuusterapia.net/events/kynat-kesakuun-valossa-omaelama
 kerrallinen-kirjoittajakurssi-11-14-6-2026-padasjoella/
SUMMARY:Kynät kesäkuun valossa\, omaelämäkerrallinen kirjoittajakurssi 
 11.-14.6.2026 Padasjoella
DESCRIPTION:Kesäkuun valo kutsuu tutkailemaan elämää ja kirjoittamaan n
 iin luonnon helmaan\, puutarhaan\, metsään ja järven rannalle\, kuin vi
 ehättävän hirsitalon suojiin. Liikkeelle lähdetään virittävien tiet
 oisuustaitoharjoitusten\, tekstien ja kirjoitusharjoitusten avulla. Taitav
 a kirjoittaja ei tarvitse olla eikä punakynää käytetä\, vaan tutkitaa
 n lempeästi kirjoittamisen ulottuvuuksia. Myös jo enemmän kirjoittaneet
  ovat tervetulleita. Mahdollisuus henkilökohtaiseen ohjaukseen. Yhteistä
  työskentelyä on 18 tuntia.\n\nKurssi järjestetään vehreässä pihapi
 irissä Nyystölän kylässä ja majoitustilana toimii satavuotiaan hirsit
 alon vintti. Aamiainen tarjoillaan tuvassa\, mutta toivotaan että sää s
 uosii ja voimme ruokailla mahdollisimman paljon ulkona.\n\nKurssin ohjaaja
 t: kirjallisuusterapeutti\, psykoterapeutti Silja Mäki ja kurssiemäntä 
 Suvi Laakso\n\nHinta: 250 €\, sis. alv (kirjoittajaohjaus) + 190 € (ma
 joitus ja aamiainen\, lounas\, päivällinen\, rantasauna)\n\nTiedustelut 
 ja ilmoittautumiset: Silja Mäki /silja.maki@saunalahti.fi Majoitukseen ja
  ruokailuun liittyvät kysymykset: Suvi Laakso / sommardal@saunalahti.fi\n
 \nEsite: Kynät kesäkuun valossa\n\n&nbsp\;
ATTACH;FMTTYPE=image/jpeg:https://kirjallisuusterapia.net/wp-content/uploa
 ds/2026/03/kirjoittaja-pihalla.jpg
CATEGORIES:Kurssit
LOCATION:Nyystölän kylä\, Tarkempi osoite ilmoitetaan osallistujille my
 öhemmin\, Padasjoki\, Suomi
X-APPLE-STRUCTURED-LOCATION;VALUE=URI;X-ADDRESS=Tarkempi osoite ilmoitetaan
  osallistujille myöhemmin\, Padasjoki\, Suomi;X-APPLE-RADIUS=100;X-TITLE=
 Nyystölän kylä:geo:0,0
END:VEVENT
BEGIN:VTIMEZONE
TZID:Europe/Helsinki
X-LIC-LOCATION:Europe/Helsinki
BEGIN:DAYLIGHT
DTSTART:20260329T040000
TZOFFSETFROM:+0200
TZOFFSETTO:+0300
TZNAME:EEST
END:DAYLIGHT
END:VTIMEZONE
END:VCALENDAR