BEGIN:VCALENDAR
VERSION:2.0
PRODID:-//wp-events-plugin.com//7.2.3.1//EN
BEGIN:VEVENT
UID:30@kirjallisuusterapia.net
DTSTART;TZID=Europe/Helsinki:20260828T000000
DTEND;TZID=Europe/Helsinki:20260828T000000
DTSTAMP:20260116T083456Z
URL:https://kirjallisuusterapia.net/events/kirjallisuusterapia-henkilokoht
 aisen-ja-oman-ammatillisen-kasvun-menetelmana-helsingin-seudun-kesayliopis
 to-28-8-5-12-2026/
SUMMARY:Kirjallisuusterapia henkilökohtaisen ja oman ammatillisen kasvun m
 enetelmänä\, Helsingin seudun kesäyliopisto\, 28.8.–5.12.2026
DESCRIPTION:Kirjallisuusterapia henkilökohtaisen ja oman ammatillisen kasv
 un menetelmänä -koulutus Helsingissä 28.8.–5.12.2026.
ATTACH;FMTTYPE=image/jpeg:https://kirjallisuusterapia.net/wp-content/uploa
 ds/2026/01/blank-792125_1280.jpg
CATEGORIES:Koulutukset
LOCATION:Helsingin seudun kesäyliopisto\, Vilhonvuorenkatu 12\, HELSINKI\,
  Suomi
X-APPLE-STRUCTURED-LOCATION;VALUE=URI;X-ADDRESS=Vilhonvuorenkatu 12\, HELSI
 NKI\, Suomi;X-APPLE-RADIUS=100;X-TITLE=Helsingin seudun kesäyliopisto:geo
 :0,0
END:VEVENT
BEGIN:VTIMEZONE
TZID:Europe/Helsinki
X-LIC-LOCATION:Europe/Helsinki
BEGIN:DAYLIGHT
DTSTART:20260329T040000
TZOFFSETFROM:+0200
TZOFFSETTO:+0300
TZNAME:EEST
END:DAYLIGHT
END:VTIMEZONE
END:VCALENDAR